Workbook
Name _2017_Labor_Escalation_Rate: #REF!
Name _4ColName: SUBSTITUTE(SUBSTITUTE(SUBSTITUTE(SUBSTITUTE(SUBSTITUTE(TRIM(T(#REF!)&"."&T(#REF!)&"."&T(#REF!)&"."&T(#REF!)&"."),"+","and"),"%","pct"),"-",""),"..","."),"&","and")
Name _FPV1: #REF!
Name _FPV3: #REF!
Name _SPV1: #REF!
Name _SPV3: #REF!
Name Actuals: #REF!
Name Aflag: #REF!
Name Aflag2: #REF!
Name AIR: #REF!
Name Balancing_Authority: #REF!
Name BondsIssued: #REF!
Name Boolean: #REF!
Name bt_d: #REF!
Name Bundled_Unbundled: #REF!
Name CBond: #REF!
Name CECRA: #REF!
Name Construction_Status: #REF!
Name CORE_U: #REF!
Name Country: #REF!
Name CPUC_Approval_Status: #REF!
Name CREZ: #REF!
Name CTAC: #REF!
Name CTRBA: #REF!
Name DACRS: SUM(#REF!)
Name Dchoice: #REF!
Name Delay_Termination_Reason: #REF!
Name DeliverabilityStatusOptions: #REF!
Name Distflag: #REF!
Name Dmdmult: #REF!
Name EPC_Contract_Status: #REF!
Name F_E: #REF!
Name Facility_Status: #REF!
Name FAIR: #REF!
Name FBUILD: #REF!
Name FCOMM: #REF!
Name FCOMP: #REF!
Name Financing_Status: #REF!
Name Flat: #REF!
Name FM: #REF!
Name FOPROD: #REF!
Name FSONG2: #REF!
Name FSTEAM: #REF!
Name FT_D: #REF!
Name gsur: #REF!
Name head1: #REF!
Name head10: #REF!
Name head11: #REF!
Name head2: #REF!
Name head3: #REF!
Name head4: #REF!
Name head5: #REF!
Name head6: #REF!
Name head7: #REF!
Name head8: #REF!
Name head9: #REF!
Name IterationType: #REF!
Name LineLoss: #REF!
Name LocalAreaOptions: #REF!
Name LOLD: 1

Sheet SDG&E INPUTS
C6: Current Effective Rates | F6: 8/1/2026 | H6: Current Sales | I6: =YEAR(F6) -> 2026
C7: Prior Rates | F7: 6/1/2026 | H7: Proposed Sales | I7: 2027 ERRA
B10: SALES ALLOCATIONS & CCC
B12: CURRENT
D13: Gen. | E13: MCAM | F13: LGC | G13: Dist. | H13: GHG | I13: CTC | J13: ND | K13: PPP | L13: DWR BC | M13: TRAC | N13: Transm. | O13: WF-NBC | P13: RS | Q13: PCIA | R13: CCC | S13: cpuc fee
C14: Res | D14: 0.40562962 | E14: 0.19327545 | F14: 0.39851332 | G14: 0.43380195 | H14: 0.93344444 | I14: 0.4042753 | J14: 0.37541895 | K14: 0.35317863 | L14: 0 | M14: 1 | N14: 0.45843322 | O14: 0.36967491 | P14: 0.31719974 | Q14: 0.40762854 | R14: -49.3648 | S14: 0.001
C15: Sm. Comm. | D15: 0.094935412 | E15: 0.13851678 | F15: 0.090020764 | G15: 0.12208945 | H15: 0.062909198 | I15: 0.097731263 | J15: 0.093098458 | K15: 0.10452307 | L15: 0 | M15: 0 | N15: 0.07589387 | O15: 0.11887857 | P15: 0.10241746 | Q15: 0.093965788
B17: =$I$7&" FORECAST" -> 2027 ERRA FORECAST
D18: Gen. | E18: MCAM | F18: LGC | G18: Dist. | H18: GHG | I18: CTC | J18: ND | K18: PPP | L18: DWR BC | M18: TRAC | N18: Transm. | O18: WF-NBC | P18: RS | Q18: PCIA | R18: CCC
C19: Res | D19: 0.44202475 | E19: 0.19327545 | F19: 0.40641042 | G19: 0.44395928 | H19: 0.9335421 | I19: 0.4150581 | J19: 0.38515733 | K19: 0.36744261 | L19: 0 | M19: 1 | N19: 0.46084549 | O19: 0.38455103 | P19: 0.32545724 | Q19: 0.44458004 | R19: -45.431098
C20: Sm. Comm. | D20: 0.098976082 | E20: 0.13851678 | F20: 0.08557224 | G20: 0.1191021 | H20: 0.062796313 | I20: 0.093187707 | J20: 0.088707 | K20: 0.10106825 | L20: 0 | M20: 0 | N20: 0.073002116 | O20: 0.11293671 | P20: 0.097949746 | Q20: 0.097887066
B22: =F7 -> 6/1/2026 | C22: -- ("Summary" tab only)
D23: Gen
C24: Res | D24: 0.40762854
C25: Sm. Comm. | D25: 0.093965788
B27: SALES DETERMINANTS
D30: Current Sales Determinants | K30: =$I$7&" Determinants" -> 2027 ERRA Determinants
E31: System | F31: System | G31: Bundled | L31: System | M31: System | N31: Bundled
E32: Net | F32: Del | G32: Net | L32: Net | M32: Del | N32: Net
D33: Res. | E33: 5529244.8 | F33: 7311830.3 | G33: 1313398.6 | K33: Res. | L33: 5701842.6 | M33: 7567850.5 | N33: 1354544
D34: Sm. Comm. | E34: 1785282.7 | F34: 1813227.9 | G34: 344525.4 | K34: Sm. Comm. | L34: 1716028.9 | M34: 1742979.4 | N34: 335262.78
D35: System | E35: 17431429 | F35: 19476455 | G35: 3218717.1 | K35: System | L35: 17519483 | M35: 19648725 | N35: 3056061.1
D38: =F7 -> 6/1/2026
E39: System | F39: System | G39: Bundled | L39: =F6 -> 8/1/2026 | M39: =F7 -> 6/1/2026
E40: Net | F40: Del | G40: Net | M40: ("Summary" tab only)
D41: Res. | E41: 5529244.8 | F41: 7311830.3 | G41: 1313398.6 | K41: Total DL | L41: 331536.01 | M41: 354094.66
D42: Sm. Comm. | E42: 1785282.7 | F42: 1813227.9 | G42: 344525.4 | K42: MCAM | L42: 313.03091 | M42: 313.03091
D43: System | E43: 17431429 | F43: 19476455 | G43: 3218717.1 | K43: ( DL - MCAM) | L43: =L41-L42 -> 331222.97 | M43: =M41-M42 -> 353781.62
B46: ANNUAL DATA
C49: FF&U Factors
D51: Dist | E51: Gen
D52: 1.04155 | E52: 1.01591
C55: Recorded Data | M55: Basic Allowance
D57: Basic | E57: Summer | F57: Winter | G57: Summer | H57: Winter | I57: Population Weight | N57: Monthly Tier 1 Baseline Allowance -BASIC (kWh) | R57: Monthly Tier 1 Baseline Allowance - ALL-ELECTRIC (kWh)
E58: Non-CARE | G58: CARE | I58: Non-CARE | J58: CARE | N58: Climate Zone | O58: Summer | P58: Winter | R58: Climate Zone | S58: Summer | T58: Winter
D59: Coastal | E59: 334.36542 | F59: 309.27334 | G59: 329.33633 | H59: 300.56282 | I59: 0.59302976 | J59: 0.50041576 | N59: Coastal | O59: 351 | P59: 359 | R59: Coastal | S59: 235 | T59: 343
D60: Mountain | E60: 370.89176 | F60: 320.9323 | G60: 595.62742 | H60: 535.42583 | I60: 0.0084334042 | J60: 0.0079450388 | N60: Mountain | O60: 530 | P60: 503 | R60: Mountain | S60: 593 | T60: 863
D61: Desert | E61: 400.96966 | F61: 153.7313 | G61: 651.39213 | H61: 320.86506 | I61: 0.001123373 | J61: 0.0015362774 | N61: Desert | O61: 620 | P61: 425 | R61: Desert | S61: 662 | T61: 667
D62: Inland | E62: 325.12079 | F62: 273.16047 | G62: 427.1678 | H62: 342.00769 | I62: 0.39741346 | J62: 0.49010293 | N62: Inland | O62: 406 | P62: 374 | R62: Inland | S62: 341 | T62: 475
D64: All-Electric | E64: Summer | F64: Winter | G64: Summer | H64: Winter | I64: Population Weight | N64: Monthly Essential Baseline Allowance -BASIC (kWh) | R64: Monthly Essential Baseline Allowance -ALL-ELECTRIC (kWh)
...

Sheet Notable Assumptions
E8: Notable Cost and Rate Tracking Tool Assumptions

Sheet Summary
B1: Inputs: | G1: Assumptions: | L1: Average monthly usage assumptions:
C2: Rate Impact for Year (2026-2030) | D2: 2030 | G2: Current Effective Rates | I2: ='SDG&E INPUTS'!F6 -> 8/1/2026 | L2: Average monthly usage is for all customers based on seasonal usage in 2025
C3: Baseline Region - (Residential bill) | D3: Coastal - Mild | G3: Sales Forecast | I3: =IF($D$2=2026,2026,2027) -> 2027 | L3: Average monthly usage below is calculated based on the Baseline Region selected in D3
G4: Summer season | I4: 5 | J4: months | L4: Residential bills below calculated using Schedule DR, Bundled, Single-Family
G5: Winter Season | I5: 7 | J5: months | M5: Basic | O5: All-Electric
B6: Pending Proceedings | D6: Include in Impact (Y/N) | E6: Applicable Year(s) | G6: Residential Semi-annual Climate Credit | I6: =IF($I$8="N",0,'SDG&E INPUTS'!R14) -> -49.3648 | J6: Current | L6: kWh per month | M6: Summer | N6: Winter | O6: Summer | P6: Winter
B7: Demand Flex | D7: Y | E7: 2028-2031 | I7: =IF($I$8="N",0,IF($D$2=2026,'SDG&E INPUTS'!R14,'SDG&E INPUTS'!R19)) -> -45.431098 | J7: Proposed | L7: Non-CARE | M7: =IF($D$3="ALL",SUMPRODUCT('Res Bill Impact'!Q22:Q25,'Res Bill Impact'!U22:U25),VLOOKUP($D$3,'Res Bill Impact'!$P$22:$V$25,2,FALSE)) -> 334.36542 | N7: =IF($D$3="ALL",SUMPRODUCT('Res Bill Impact'!R22:R25,'Res Bill Impact'!U22:U25),VLOOKUP(D$3,'Res Bill Impact'!$P$22:$V$25,3,FALSE)) -> 309.27334 | O7: =IF($D$3="ALL",SUMPRODUCT('Res Bill Impact'!Q31:Q34,'Res Bill Impact'!U31:U34),VLOOKUP($D$3,'Res Bill Impact'!$P$31:$V$34,2,FALSE)) -> 283.425 | P7: =IF($D$3="ALL",SUMPRODUCT('Res Bill Impact'!R31:R34,'Res Bill Impact'!U31:U34),VLOOKUP(D$3,'Res Bill Impact'!$P$31:$V$34,3,FALSE)) -> 272.60745
B8: GRC P1 Track 3 - WMPMA | D8: Y | E8: 2027-2032 | H8: Include CA Climate Credit in Rates & Res. Annual Avg Bills? | I8: Y | L8: CARE | M8: =IF($D$3="ALL",SUMPRODUCT('Res Bill Impact'!S22:S25,'Res Bill Impact'!V22:V25),VLOOKUP($D$3,'Res Bill Impact'!$P$22:$V$25,4,FALSE)) -> 329.33633 | N8: =IF($D$3="ALL",SUMPRODUCT('Res Bill Impact'!T22:T25,'Res Bill Impact'!V22:V25),VLOOKUP($D$3,'Res Bill Impact'!$P$22:$V$25,5,FALSE)) -> 300.56282 | O8: =IF($D$3="ALL",SUMPRODUCT('Res Bill Impact'!S31:S34,'Res Bill Impact'!V31:V34),VLOOKUP($D$3,'Res Bill Impact'!$P$31:$V$34,4,FALSE)) -> 293.30439 | P8: =IF($D$3="ALL",SUMPRODUCT('Res Bill Impact'!T31:T34,'Res Bill Impact'!V31:V34),VLOOKUP($D$3,'Res Bill Impact'!$P$31:$V$34,5,FALSE)) -> 284.82109
B9: Energy Efficiency - Revision of 2024-2031 Business Plan | D9: Y | E9: 2026-2031 | H9: Typical residential average usage kWh/month* | I9: 400
B10: Smart Meter 2.0 | D10: Y | E10: 2027-2031 | G10: *This field is editable for analysis purposes; however, SDG&E's typical Residential usage is 400kWh
B11: TY 2024 GRC P1 PFM | D11: Y | E11: 2025-2027
B12: Palomar Decarbonization Demonstration Project | D12: Y | E12: 2027-2031
B13: Low-Income Bridge Funding 2027 | D13: Y | E13: 2027
B14: Low-Income Application 2028-2033 | D14: Y | E14: 2028-2033
B15: ERRA 2027 Forecast | D15: Y | E15: 2027
B16: 2027 Diablo Canyon PP | D16: Y | E16: 2026-2030
B17: SAP Migration | D17: Y | E17: 2028-2035
B18: Energy Efficiency - Application (2028-2035) | D18: Y | E18: 2028-2035
B19: TY 2028 GRC P1 | D19: Y | E19: 2028-2031
B20: Base Transmission Revenue Requirement (BTRR) | D20: Y | E20: 2027
B21: EPIC (Electric Program Investment Charge) | D21: Y | E21: 2028-2030
B28: Outputs:
D29: (A) | E29: (B) | F29: (C) | G29: (D) | H29: (D)/(A) | I29: (D)/(B) | J29: (D)/(C) | N29: (A) | O29: (B) | P29: (C) | Q29: (D) | R29: (D)/(A) | S29: (D)/(B) | T29: (D)/(C)
B30: Bundled Average Rates - ¢/kWh | L30: Total System (Bundled and Unbundled) Average Rates - ¢/kWh
B31: Customer Group | D31: ='SDG&E INPUTS'!F7 -> 6/1/2026 | E31: =I2 -> 8/1/2026 | F31: =$D$2&" Authorized" -> 2030 Authorized | G31: =$D$2&" w/Pending" -> 2030 w/Pending | H31: =_xlfn.TEXTJOIN(" ",TRUE,"% Change over",D31) -> % Change over 6/1/2026 | I31: =_xlfn.TEXTJOIN(" ",TRUE,"% Change over",E31) -> % Change over 8/1/2026 | J31: % Change over Authorized | L31: Customer Group | N31: =$D$31 -> 6/1/2026 | O31: =$E$31 -> 8/1/2026 | P31: =$D$2&" Authorized" -> 2030 Authorized | Q31: =$D$2&" w/Pending" -> 2030 w/Pending | R31: =$H$31 -> % Change over 6/1/2026 | S31: =$I$31 -> % Change over 8/1/2026 | T31: % Change over Authorized
B32: Residential | D32: =IF($I$8="Y",'SAR and RAR'!AC26,'SAR and RAR'!AE26) -> 42.964 | E32: ='SAR and RAR'!H24 -> 43.132 | F32: ='SAR and RAR'!I24 -> 42.590307 | G32: ='SAR and RAR'!J24 -> 49.343445 | H32: =$G32/D32-1 -> 0.14848349 | I32: =$G32/E32-1 -> 0.14401012 | J32: =$G32/F32-1 -> 0.15856042 | L32: Total Residential (RAR) | N32: =D32+((('SDG&E INPUTS'!M43)*1000*'SDG&E INPUTS'!D24)+'SDG&E INPUTS'!M42*1000*'SDG&E INPUTS'!E14)/(('SDG&E INPUTS'!E41-'SDG&E INPUTS'!G41)*1000)*100 -> 46.386136 | O32: ='SAR and RAR'!S24 -> 46.626331 | P32: ='SAR and RAR'!T24 -> 45.978978 | Q32: ='SAR and RAR'!U24 -> 52.506657 | R32: =$Q32/N32-1 -> 0.13194721 | S32: =$Q32/O32-1 -> 0.126116 | T32: =$Q32/P32-1 -> 0.14197095
C33: Small Commercial (TOU-A) | D33: =IF($I$8="Y",'SAR and RAR (TOU-A)'!AC26,'SAR and RAR (TOU-A)'!AE26) -> 39.82 | E33: ='SAR and RAR (TOU-A)'!H24 -> 39.978 | F33: ='SAR and RAR (TOU-A)'!I24 -> 40.199532 | G33: ='SAR and RAR (TOU-A)'!J24 -> 45.496478 | H33: =$G33/D33-1 -> 0.14255344 | I33: =$G33/E33-1 -> 0.13803787 | J33: =$G33/F33-1 -> 0.13176637 | M33: Small Commercial (TOU-A) | N33: =D33+((('SDG&E INPUTS'!M43)*1000*'SDG&E INPUTS'!D25)+'SDG&E INPUTS'!M42*1000*'SDG&E INPUTS'!E15)/(('SDG&E INPUTS'!E42-'SDG&E INPUTS'!G42)*1000)*100 -> 42.130363 | O33: ='SAR and RAR (TOU-A)'!S24 -> 42.231385 | P33: ='SAR and RAR (TOU-A)'!T24 -> 42.550821 | Q33: ='SAR and RAR (TOU-A)'!U24 -> 47.69187 | R33: =$Q33/N33-1 -> 0.13200708 | S33: =$Q33/O33-1 -> 0.12929921 | T33: =$Q33/P33-1 -> 0.12082138
B34: System | D34: =IF($I$8="Y",'SAR and RAR'!AC27,'SAR and RAR'!AE27) -> 38.957 | E34: ='SAR and RAR'!H25 -> 39.259 | F34: ='SAR and RAR'!I25 -> 39.129307 | G34: ='SAR and RAR'!J25 -> 43.373263 | H34: =$G34/D34-1 -> 0.11336249 | I34: =$G34/E34-1 -> 0.10479795 | J34: =$G34/F34-1 -> 0.10845976 | L34: Total System (SAR) | N34: =D34+('SDG&E INPUTS'!M41*1000)/(('SDG&E INPUTS'!E43-'SDG&E INPUTS'!G43)*1000)*100 -> 41.448394 | O34: ='SAR and RAR'!S25 -> 41.591672 | P34: ='SAR and RAR'!T25 -> 41.421545 | Q34: ='SAR and RAR'!U25 -> 45.513295 | R34: =$Q34/N34-1 -> 0.098071374 | S34: =$Q34/O34-1 -> 0.094288649 | T34: =$Q34/P34-1 -> 0.098783131
B37: Basic Bundled Residential Monthly Average Bills | L37: All-Electric Bundled Residential Monthly Average Bills
D38: =$D$31 -> 6/1/2026 | E38: =$E$31 -> 8/1/2026 | F38: =$D$2&" Authorized" -> 2030 Authorized | G38: =$D$2&" w/Pending" -> 2030 w/Pending | H38: =$H$31 -> % Change over 6/1/2026 | I38: =$I$31 -> % Change over 8/1/2026 | J38: % Change over Authorized | N38: =$D$31 -> 6/1/2026 | O38: =$E$31 -> 8/1/2026 | P38: =$D$2&" Authorized" -> 2030 Authorized | Q38: =$D$2&" w/Pending" -> 2030 w/Pending | R38: =$H$31 -> % Change over 6/1/2026 | S38: =$I$31 -> % Change over 8/1/2026 | T38: % Change over Authorized
B39: Non-CARE | D39: =((D45*5)+(D51*7)+(I6*2))/12 -> 147.46412 | E39: =((E45*5)+(E51*7)+(I6*2))/12 -> 147.939 | F39: =((F45*5)+(F51*7)+(I7*2))/12 -> 146.80875 | G39: =((G45*5)+(G51*7)+(I7*2))/12 -> 165.80712 | H39: =$G39/D39-1 -> 0.12438961 | I39: =$G39/E39-1 -> 0.12078035 | J39: =$G39/F39-1 -> 0.12940897 | L39: Non-CARE | N39: =((N45*5)+(N51*7)+(I6*2))/12 -> 132.03739 | O39: =((O45*5)+(O51*7)+(I6*2))/12 -> 132.45675 | P39: =((P45*5)+(P51*7)+(I7*2))/12 -> 131.53532 | Q39: =((Q45*5)+(Q51*7)+(I7*2))/12 -> 148.31224 | R39: =$Q39/N39-1 -> 0.12325941 | S39: =$Q39/O39-1 -> 0.11970321 | T39: =$Q39/P39-1 -> 0.12754693
B40: CARE | D40: =((D46*5)+(D52*7)+(I6*2))/12 -> 78.643595 | E40: =((E46*5)+(E52*7)+(I6*2))/12 -> 78.946771 | F40: =((F46*5)+(F52*7)+(I7*2))/12 -> 78.507587 | G40: =((G46*5)+(G52*7)+(I7*2))/12 -> 90.154295 | H40: =$G40/D40-1 -> 0.14636538 | I40: =$G40/E40-1 -> 0.14196305 | J40: =$G40/F40-1 -> 0.14835136 | L40: CARE | N40: =((N46*5)+(N52*7)+(I6*2))/12 -> 74.060135 | O40: =((O46*5)+(O52*7)+(I6*2))/12 -> 74.345671 | P40: =((P46*5)+(P52*7)+(I7*2))/12 -> 73.968389 | Q40: =((Q46*5)+(Q52*7)+(I7*2))/12 -> 84.956575 | R40: =$Q40/N40-1 -> 0.14712962 | S40: =$Q40/O40-1 -> 0.1427239 | T40: =$Q40/P40-1 -> 0.14855246
B41: Total | D41: =((D47*5)+(D53*7)+(I6*2))/12 -> 134.02796 | E41: =((E47*5)+(E53*7)+(I6*2))/12 -> 134.46932 | F41: =((F47*5)+(F53*7)+(I7*2))/12 -> 133.47399 | G41: =((G47*5)+(G53*7)+(I7*2))/12 -> 151.03706 | H41: =$G41/D41-1 -> 0.12690711 | I41: =$G41/E41-1 -> 0.12320835 | J41: =$G41/F41-1 -> 0.13158421 | L41: Total | N41: =((N47*5)+(N53*7)+(I6*2))/12 -> 120.71822 | O41: =((O47*5)+(O53*7)+(I6*2))/12 -> 121.11145 | P41: =((P47*5)+(P53*7)+(I7*2))/12 -> 120.29625 | Q41: =((Q47*5)+(Q53*7)+(I7*2))/12 -> 135.94302 | R41: =$Q41/N41-1 -> 0.12611849 | S41: =$Q41/O41-1 -> 0.12246217 | T41: =$Q41/P41-1 -> 0.13006858
B43: Basic Bundled Residential Monthly Average Bills - Summer | L43: All-Electric Bundled Residential Monthly Average Bills - Summer
D44: =$D$31 -> 6/1/2026 | E44: =$E$31 -> 8/1/2026 | F44: =$D$2&" Authorized" -> 2030 Authorized | G44: =$D$2&" w/Pending" -> 2030 w/Pending | H44: =$H$31 -> % Change over 6/1/2026 | I44: =$I$31 -> % Change over 8/1/2026 | J44: % Change over Authorized | N44: =$D$31 -> 6/1/2026 | O44: =$E$31 -> 8/1/2026 | P44: =$D$2&" Authorized" -> 2030 Authorized | Q44: =$D$2&" w/Pending" -> 2030 w/Pending | R44: =$H$31 -> % Change over 6/1/2026 | S44: =$I$31 -> % Change over 8/1/2026 | T44: % Change over Authorized
B45: Non-CARE | D45: =IF($D$3="All",'Res Bill Impact'!$C$47,(VLOOKUP($D$3,'Res Bill Impact'!$B$43:$J$46,2,FALSE))) -> 161.7294 | E45: =IF($D$3="All",'Res Bill Impact'!$E$47,(VLOOKUP($D$3,'Res Bill Impact'!$B$43:$J$46,4,FALSE))) -> 162.22602 | F45: =IF($D$3="All",'Res Bill Impact'!$G$47,(VLOOKUP($D$3,'Res Bill Impact'!$B$43:$J$46,6,FALSE))) -> 160.3584 | G45: =IF($D$3="All",'Res Bill Impact'!$I$47,(VLOOKUP($D$3,'Res Bill Impact'!$B$43:$J$46,8,FALSE))) -> 180.22651 | H45: =$G45/D45-1 -> 0.11437073 | I45: =$G45/E45-1 -> 0.11095932 | J45: =$G45/F45-1 -> 0.12389814 | L45: Non-CARE | N45: =IF($D$3="All",'Res Bill Impact'!$N$47,(VLOOKUP($D$3,'Res Bill Impact'!$M$43:$U$46,2,FALSE))) -> 145.87993 | O45: =IF($D$3="All",'Res Bill Impact'!$P$47,(VLOOKUP($D$3,'Res Bill Impact'!$M$43:$U$46,4,FALSE))) -> 146.31953 | P45: =IF($D$3="All",'Res Bill Impact'!$R$47,(VLOOKUP($D$3,'Res Bill Impact'!$M$43:$U$46,6,FALSE))) -> 144.66635 | Q45: =IF($D$3="All",'Res Bill Impact'!$T$47,(VLOOKUP($D$3,'Res Bill Impact'!$M$43:$U$46,8,FALSE))) -> 162.25318 | R45: =$Q45/N45-1 -> 0.11223782 | S45: =$Q45/O45-1 -> 0.10889624 | T45: =$Q45/P45-1 -> 0.12156816
B46: CARE | D46: =IF($D$3="All",'Res Bill Impact'!$C$57,(VLOOKUP($D$3,'Res Bill Impact'!$B$53:$J$56,2,FALSE))) -> 91.218596 | E46: =IF($D$3="All",'Res Bill Impact'!$E$57,(VLOOKUP($D$3,'Res Bill Impact'!$B$53:$J$56,4,FALSE))) -> 91.538052 | F46: =IF($D$3="All",'Res Bill Impact'!$G$57,(VLOOKUP($D$3,'Res Bill Impact'!$B$53:$J$56,6,FALSE))) -> 90.38446 | G46: =IF($D$3="All",'Res Bill Impact'!$I$57,(VLOOKUP($D$3,'Res Bill Impact'!$B$53:$J$56,8,FALSE))) -> 102.65661 | H46: =$G46/D46-1 -> 0.1253913 | I46: =$G46/E46-1 -> 0.12146383 | J46: =$G46/F46-1 -> 0.13577727 | L46: CARE | N46: =IF($D$3="All",'Res Bill Impact'!$N$57,(VLOOKUP($D$3,'Res Bill Impact'!$M$53:$U$56,2,FALSE))) -> 85.926681 | O46: =IF($D$3="All",'Res Bill Impact'!$P$57,(VLOOKUP($D$3,'Res Bill Impact'!$M$53:$U$56,4,FALSE))) -> 86.225179 | P46: =IF($D$3="All",'Res Bill Impact'!$R$57,(VLOOKUP($D$3,'Res Bill Impact'!$M$53:$U$56,6,FALSE))) -> 85.142955 | Q46: =IF($D$3="All",'Res Bill Impact'!$T$57,(VLOOKUP($D$3,'Res Bill Impact'!$M$53:$U$56,8,FALSE))) -> 96.655882 | R46: =$Q46/N46-1 -> 0.1248646 | S46: =$Q46/O46-1 -> 0.12097049 | T46: =$Q46/P46-1 -> 0.13521879
B47: Total | D47: =D45*(1-'SAR and RAR'!$AD$16)+D46*'SAR and RAR'!$AD$16 -> 147.96324 | E47: =E45*(1-'SAR and RAR'!$AD$16)+E46*'SAR and RAR'!$AD$16 -> 148.42527 | F47: =F45*(1-'SAR and RAR'!$AD$16)+F46*'SAR and RAR'!$AD$16 -> 146.69706 | G47: =G45*(1-'SAR and RAR'!$AD$16)+G46*'SAR and RAR'!$AD$16 -> 165.08217 | H47: =$G47/D47-1 -> 0.11569718 | I47: =$G47/E47-1 -> 0.11222414 | J47: =$G47/F47-1 -> 0.12532708 | L47: Total | N47: =N45*(1-'SAR and RAR'!$AD$16)+N46*'SAR and RAR'!$AD$16 -> 134.17497 | O47: =O45*(1-'SAR and RAR'!$AD$16)+O46*'SAR and RAR'!$AD$16 -> 134.58702 | P47: =P45*(1-'SAR and RAR'!$AD$16)+P46*'SAR and RAR'!$AD$16 -> 133.04532 | Q47: =Q45*(1-'SAR and RAR'!$AD$16)+Q46*'SAR and RAR'!$AD$16 -> 149.44631 | R47: =$Q47/N47-1 -> 0.11381654 | S47: =$Q47/O47-1 -> 0.11040649 | T47: =$Q47/P47-1 -> 0.12327369
B49: Basic Bundled Residential Monthly Average Bills - Winter | L49: All-Electric Bundled Residential Monthly Average Bills - Winter
D50: =$D$31 -> 6/1/2026 | E50: =$E$31 -> 8/1/2026 | F50: =$D$2&" Authorized" -> 2030 Authorized | G50: =$D$2&" w/Pending" -> 2030 w/Pending | H50: =$H$31 -> % Change over 6/1/2026 | I50: =$I$31 -> % Change over 8/1/2026 | J50: % Change over Authorized | N50: =$D$31 -> 6/1/2026 | O50: =$E$31 -> 8/1/2026 | P50: =$D$2&" Authorized" -> 2030 Authorized | Q50: =$D$2&" w/Pending" -> 2030 w/Pending | R50: =$H$31 -> % Change over 6/1/2026 | S50: =$I$31 -> % Change over 8/1/2026 | T50: % Change over Authorized
...

Sheet Selected Data
A1: Summary of Selected Data
Q2: Revenue
Q3: Requirement
Q4: ($000)
A5: 1 | B5: Current total system-level revenue requirement that is used for defining the reporting threshold: | Q5: ='Authorized Rev Req'!$W$173 -> 4829143.6
B6: A | C6: One-percent reporting threshold | Q6: =Q5*0.01 -> 48291.436
A9: 2 | B9: List of currently open proceedings for which affordability metrics have been filed1: | Q9: Incremental Rev Req
B10: A | C10: A.22-05-015 / 016 Track 3 | D10: GRC P1 Track 3 - WMPMA2 | Q10: ='Incremental Rev Req'!D93 -> 667401.14
B11: B | C11: A.26-06-015 | D11: TY 2028 GRC P1³ | Q11: =SUM('Incremental Rev Req'!H100:J100)+SUM('Incremental Rev Req'!H101:J101) -> 1793940.9
A18: 3 | B18: Total system-level revenue requirement if all pending revenue were granted in full: requests were granted in full
B19: A | C19: YE 2026 | Q19: ='Incremental Rev Req'!$O$125 -> 4923565.9
B20: B | C20: YE 2027 | Q20: ='Incremental Rev Req'!$P$125 -> 5527663.7
B21: C | C21: YE 2028 | Q21: ='Incremental Rev Req'!$Q$125 -> 5650167.5
B22: D | C22: YE 2029 | Q22: ='Incremental Rev Req'!$R$125 -> 5788713.7
B23: E | C23: YE 2030 | Q23: ='Incremental Rev Req'!$S$125 -> 5734097.6
A25: 4 | B25: Bundled residential average rate (RAR) if all pending revenue were granted in full (from Cost and Rate Tracker (CRT) as submitted by utility): | R25: cents/kWh
B26: A | C26: YE 2026 | R26: 43.523973
B27: B | C27: YE 2027 | R27: 47.922871
B28: C | C28: YE 2028 | R28: 48.738601
B29: D | C29: YE 2029 | R29: 49.813868
B30: E | C30: YE 2030 | R30: 49.343445
A32: 5 | B32: Bundled residential weighted average monthly bill corresponding to RAR above for typical customer in Coastal climate zone using 400 kWh on Basic service (from CRT as submitted by utility): | S32: Non-CARE | T32: CARE
B33: A | C33: YE 2026 | S33: 187.37491 | T33: 105.68241
B34: B | C34: YE 2027 | S34: 203.43434 | T34: 116.00776
B35: C | C35: YE 2028 | S35: 206.47109 | T35: 117.91408
B36: D | C36: YE 2029 | S36: 210.47403 | T36: 120.42693
B37: E | C37: YE 2030 | S37: 208.72276 | T37: 119.32757
A39: 6 | B39: Bundled small commercial average rate (TOU-A) if all pending revenue were granted in full (from Cost and Rate Tracker (CRT) as submitted by utility): | R39: cents/kWh
B40: A | C40: YE 2026 | R40: 40.397161
B41: B | C41: YE 2027 | R41: 44.299825
B42: C | C42: YE 2028 | R42: 44.949457
B43: D | C43: YE 2029 | R43: 45.910027
B44: E | C44: YE 2030 | R44: 45.496478
A46: 7 | B46: Bundled small commercial weighted average monthly bill corresponding to TOU-A above (from CRT as submitted by utility): | S46: NAICS 531 | T46: NAICS 621 | U46: NAICS 722
B47: A | C47: YE 2026 | S47: 390.1633 | T47: 430.73428 | U47: 1098.4224
B48: B | C48: YE 2027 | S48: 425.94024 | T48: 469.66812 | U48: 1200.5314
B49: C | C49: YE 2028 | S49: 431.9281 | T49: 476.18434 | U49: 1217.6211
B50: D | C50: YE 2029 | S50: 440.78197 | T50: 485.81946 | U50: 1242.8904
B51: E | C51: YE 2030 | S51: 436.97016 | T51: 481.6713 | U51: 1232.0113
B56: Notes
...

Sheet Authorized Rev Req
A1: SDG&E Electric Revenue Requirement List
A2: Annual Period 2026
A3: Reporting Date: Quarter Ended September 30
A4: Submitted September 1, 2026
B5: Revenue Requirement Date: | C5: 43862 | D5: 43922 | E5: 43983 | F5: 44105 | G5: 44228 | H5: 44256 | I5: 44348 | J5: 44501 | K5: 44562 | L5: 44713 | M5: 44927 | N5: 45292 | O5: 45352 | P5: 45566 | Q5: 45689 | R5: 45809 | S5: 45931 | T5: 46023 | U5: 46113 | V5: 46174 | W5: 46235
B6: Advice Letter: | C6: AL 3500-E | D6: AL 3514-E | E6: AL 3535-E | F6: AL 3619-E | G6: AL 3669-E-A | H6: AL 3696-E-A-B | I6: AL 3756-E | J6: AL 3855-E | K6: AL 3928-E | L6: AL 4004-E | M6: AL 4129-E | N6: AL 4344-E | O6: AL 4366-E | P6: AL 4507-E | Q6: AL 4588-E | R6: AL 4653-E | S6: AL 4701-E | T6: 4757-E | U6: 4791-E / E-A | V6: 4843-E | W6: AL 4868-E
A7: Filing Description | B7: =_xlfn.TEXTJOIN(" ",TRUE,"Authority for Revenue Requirement as of",Summary!E31) -> Authority for Revenue Requirement as of 8/1/2026 | C7: Authorized Revenue Requirement ($000) | D7: Authorized Revenue Requirement ($000) | E7: Authorized Revenue Requirement ($000) | F7: Authorized Revenue Requirement ($000) | G7: Authorized Revenue Requirement ($000) | H7: Authorized Revenue Requirement ($000) | I7: Authorized Revenue Requirement ($000) | J7: Authorized Revenue Requirement ($000) | K7: Authorized Revenue Requirement ($000) | L7: Authorized Revenue Requirement ($000) | M7: Authorized Revenue Requirement ($000) | N7: Authorized Revenue Requirement ($000) | O7: Authorized Revenue Requirement ($000) | P7: Authorized Revenue Requirement ($000) | Q7: Authorized Revenue Requirement ($000) | R7: Authorized Revenue Requirement ($000) | S7: Authorized Revenue Requirement ($000) | T7: Authorized Revenue Requirement ($000) | U7: Authorized Revenue Requirement ($000) | V7: Authorized Revenue Requirement ($000) | W7: Authorized Revenue Requirement ($000) | X7: Revenue Recovery Mechanism | Y7: Balancing Account
A8: Safety Affordability Reliability Proceedings
A9: SDG&E General Rate Case (GRC) Attrition Year | B9: D.25-12-043, D.24-12-074, AL 4743-E | C9: 1477315.8 | D9: 1477315.8 | E9: 1477315.8 | F9: 1477315.8 | G9: 1558749.6 | H9: 1558749.6 | I9: 1558749.6 | J9: 1558749.6 | K9: 1628214.3 | L9: 1622781.5 | M9: 1673263 | N9: 1673263 | O9: 1720272.5 | P9: 1720272.5 | Q9: 2016576.1 | R9: 2016576.1 | S9: 2016576.1 | T9: 2110024.1 | U9: 2110024.1 | V9: 2110024.1 | W9: 2110024.1 | X9: Distribution | Y9: N
A10: SDG&E General Rate Case (GRC) Attrition Year | B10: D.25-12-043, D.24-12-074, AL 4743-E | C10: 198523.74 | D10: 198523.74 | E10: 198523.74 | F10: 198523.74 | G10: 200900.22 | H10: 200900.22 | I10: 200900.22 | J10: 200900.22 | K10: 203501.26 | L10: 203055.4 | M10: 202592.51 | N10: 202592.51 | O10: 206976.12 | P10: 206976.12 | Q10: 218153.07 | R10: 218153.07 | S10: 218153.07 | T10: 224821.9 | U10: 224821.9 | V10: 224821.9 | W10: 224821.9 | X10: Generation | Y10: N
A11: General Rate Case Memorandum Account (GRCMA) | B11: D.24-12-074, AL 4758-E | C11: 38304.415 | D11: 38304.415 | E11: 38304.415 | F11: 38304.415 | G11: 38722.434 | H11: 38722.434 | I11: 38722.434 | J11: 38722.434 | K11: 0 | L11: 0 | M11: 0 | N11: 0 | O11: 0 | P11: 0 | Q11: 166603.17 | R11: 166603.17 | S11: 166603.17 | T11: 181748.92 | U11: 181748.92 | V11: 181748.92 | W11: 0 | X11: Distribution | Y11: Y
A12: General Rate Case Memorandum Account (GRCMA) | B12: D.24-12-074, D.25-12-008, AL 4757-E | C12: -19594.055 | D12: -19594.055 | E12: -19594.055 | F12: -19594.055 | G12: -19807.915 | H12: -19807.915 | I12: -19807.915 | J12: -19807.915 | K12: 0 | L12: 0 | M12: 0 | N12: 0 | O12: 0 | P12: 0 | Q12: -14343.038 | R12: -14343.038 | S12: -14343.038 | T12: -16572.169 | U12: -16562.118 | V12: -16562.118 | W12: 0 | X12: Generation | Y12: Y
A13: General Rate Case Memorandum Account (GRCMA) | B13: D.24-12-074, A.25-05-012, AL 4758-E | C13: 0 | D13: 0 | E13: 0 | F13: 0 | G13: 0 | H13: 0 | I13: 0 | J13: 0 | K13: 0 | L13: 0 | M13: 0 | N13: 0 | O13: 0 | P13: 0 | Q13: 19839.869 | R13: 19839.869 | S13: 19839.869 | T13: 22568.701 | U13: 22558.65 | V13: 22558.65 | W13: 0 | X13: PCIA | Y13: Y
A14: Tax Cut Job Act (TCJA) | B14: N/A | C14: -32053.919 | D14: -32053.919 | E14: -32053.919 | F14: -32053.919 | G14: -32053.919 | H14: -32053.919 | I14: -32053.919 | J14: -32053.919 | K14: 0 | L14: 0 | M14: 0 | N14: 0 | O14: 0 | P14: 0 | Q14: 0 | R14: 0 | S14: 0 | T14: 0 | U14: 0 | V14: 0 | W14: 0 | X14: Distribution | Y14: N
A15: Tax Cut Job Act (TCJA) | B15: N/A | C15: -7335.0289 | D15: -7335.0289 | E15: -7335.0289 | F15: -7335.0289 | G15: -7335.0289 | H15: -7335.0289 | I15: -7335.0289 | J15: -7335.0289 | K15: 0 | L15: 0 | M15: 0 | N15: 0 | O15: 0 | P15: 0 | Q15: 0 | R15: 0 | S15: 0 | T15: 0 | U15: 0 | V15: 0 | W15: 0 | X15: Generation | Y15: N
A16: Rate Reform Memo Account - Distribution | B16: N/A | C16: 0 | D16: 0 | E16: 0 | F16: 0 | G16: -7486.5517 | H16: -7486.5517 | I16: -7486.5517 | J16: -7486.5517 | K16: 0 | L16: 0 | M16: 0 | N16: 0 | O16: 0 | P16: 0 | Q16: 0 | R16: 0 | S16: 0 | T16: 0 | U16: 0 | V16: 0 | W16: 0 | X16: Distribution | Y16: Y
A17: Rate Reform Memo Account - Commodity | B17: N/A | C17: 0 | D17: 0 | E17: 0 | F17: 0 | G17: -53.643028 | H17: -53.643028 | I17: -53.643028 | J17: -53.643028 | K17: 0 | L17: 0 | M17: 0 | N17: 0 | O17: 0 | P17: 0 | Q17: 0 | R17: 0 | S17: 0 | T17: 0 | U17: 0 | V17: 0 | W17: 0 | X17: Generation | Y17: Y
A18: Energy Resource Recovery Account (ERRA) Revenue Requirement | B18: D.25-12-008 | C18: 801215.36 | D18: 801215.36 | E18: 801215.36 | F18: 801215.36 | G18: 801215.36 | H18: 663435.16 | I18: 663435.16 | J18: 663435.16 | K18: 786860.07 | L18: 786860.07 | M18: 545074.22 | N18: 487032.04 | O18: 487032.04 | P18: 487032.04 | Q18: 464895.44 | R18: 464895.44 | S18: 464895.44 | T18: 398611.62 | U18: 398611.62 | V18: 398611.62 | W18: 398611.62 | X18: Generation | Y18: N
A19: Energy Resource Recovery Account (ERRA) Trigger | B19: N/A | C19: 0 | D19: -186232.4 | E19: -186232.4 | F19: -186232.4 | G19: 0 | H19: 55341.557 | I19: 55341.557 | J19: 55341.557 | K19: 149125.78 | L19: 149125.78 | M19: -4541.8532 | N19: 0 | O19: 0 | P19: 0 | Q19: 0 | R19: 0 | S19: 0 | T19: 0 | U19: 0 | V19: 0 | W19: 0 | X19: Generation | Y19: N
A20: Energy Resource Recovery Account (ERRA) Balancing Account | B20: D.25-12-008, AL 4757-E, Resolution E-5217 | C20: 0 | D20: 0 | E20: 0 | F20: 0 | G20: 0 | H20: 0 | I20: 0 | J20: 0 | K20: 0 | L20: 0 | M20: 106558.61 | N20: -78073.242 | O20: -78073.242 | P20: -78073.242 | Q20: 121137.34 | R20: 121137.34 | S20: 121137.34 | T20: -2230.5184 | U20: -2230.5184 | V20: -2230.5184 | W20: -2230.5184 | X20: Generation | Y20: Y
... A56: Catastrophic Event Memorandum Account (CEMA) | B56: D.24-07-013 | C56: 0 | D56: 0 | E56: 0 | F56: 0 | G56: 0 | H56: 0 | I56: 0 | J56: 0 | K56: 0 | L56: 0 | M56: 0 | N56: 0 | O56: 0 | P56: 30408.929 | Q56: 31070.493 | R56: 31070.493 | S56: 637.52449 | T56: 619.72225 | U56: 619.72225 | V56: 619.72225 | W56: 619.72225 | X56: Distribution | Y56: N
A57: 2024 GRC Adjustment - Paperless Billing | B57: AL 4483-E/3325-G, AL 4757-E | T57: -202.8865 | U57: -202.8865 | V57: -202.8865 | W57: -202.8865 | X57: Distribution | Y57: N
A58: High Power Interim Rate Waiver Balancing Account (HPWBA) | B58: D.25-09-006, AL 4757-E | T58: 6151.3943 | U58: 6151.3943 | V58: 6151.3943 | W58: 6151.3943 | X58: Distribution | Y58: N
A59: High Power Rate Balancing Account (HPRBA) | B59: AL 4757-E, Resolution E-5217 | T59: 5045.2682 | U59: 5045.2682 | V59: 5045.2682 | W59: 5045.2682 | X59: Distribution | Y59: Y
A60: High DER Consulting Funds Balancing Account (DERBA) | B60: AL 4757-E, Resolution E-5217 | T60: 229.141 | U60: 229.141 | V60: 229.141 | W60: 229.141 | X60: Distribution | Y60: Y
A61: Medium-Duty and Heavy-Duty Electric Vehicle Balancing Account (MDHDBA) | B61: AL 4757-E, Resolution E-5217 | T61: -41662 | U61: -41662 | V61: -41662 | W61: -41662 | X61: Distribution | Y61: Y
A65: Subtotal Safety Affordability Reliability | C65: =SUM(C9:C64) -> 3411681.3 | D65: =SUM(D9:D64) -> 3225448.6 | E65: =SUM(E9:E64) -> 3225448.6 | F65: =SUM(F9:F64) -> 3225448.6 | G65: =SUM(G9:G64) -> 3468551.3 | H65: =SUM(H9:H64) -> 3210312.2 | I65: =SUM(I9:I64) -> 3210312.2 | J65: =SUM(J9:J64) -> 3210312.2 | ... W65: =SUM(W9:W64) -> 3685892.5
A67: Public Policy Proceedings
A68: Energy Efficiency Savings Performance Incentive (ESPI) Award | B68: N/A | C68: 2460.8646 | D68: 2460.8646 | E68: 2460.8646 | F68: 2460.8646 | G68: 0 | H68: 0 | I68: 0 | J68: 0 | K68: 0 | L68: 0 | M68: 0 | N68: 3065.9919 | O68: 3065.9919 | P68: 3065.9919 | Q68: 0 | R68: 0 | S68: 0 | T68: 0 | U68: 0 | V68: 0 | W68: 0 | X68: Distribution | Y68: N
A69: Vehicle Grid Integration (VGI) | B69: N/A | C69: 7842.9967 | D69: 7842.9967 | E69: 7842.9967 | F69: 7842.9967 | G69: 7578.9247 | H69: 7578.9247 | I69: 7578.9247 | J69: 7578.9247 | K69: 7575.7133 | L69: 7575.7133 | M69: 6782.9874 | N69: 0 | O69: 0 | P69: 0 | Q69: 0 | R69: 0 | S69: 0 | T69: 0 | U69: 0 | V69: 0 | W69: 0 | X69: Distribution | Y69: N
A70: AB 1054 | B70: D.25-12-043, AL 4078-E, AL 4078-E-A, AL 4553-E | C70: 0 | D70: 0 | E70: 0 | F70: 0 | G70: -18242.265 | H70: -18242.265 | I70: -18242.265 | J70: -18242.265 | K70: -10363.512 | L70: -10363.512 | M70: -10098.27 | N70: -9628.1292 | O70: -10421.975 | P70: -10421.975 | Q70: -9229.3669 | R70: -9229.3669 | S70: -9229.3669 | T70: -8217.2474 | U70: -8217.2474 | V70: -8217.2474 | W70: -8217.2474 | X70: Distribution | Y70: N
A71: MDHD | B71: D.25-12-043, D.19-08-026, AL 4553-E, AL 3489-E-A | C71: 0 | D71: 0 | E71: 0 | F71: 0 | G71: 13838.709 | H71: 13838.709 | I71: 13838.709 | J71: 13838.709 | K71: 11822.734 | L71: 11822.734 | M71: 14749.202 | N71: 17874.036 | O71: 18549.959 | P71: 18549.959 | Q71: 15737.903 | R71: 15737.903 | S71: 15737.903 | T71: 14532.78 | U71: 14532.78 | V71: 14532.78 | W71: 14532.78 | X71: Distribution | Y71: N
A72: AB 1082/1083 | B72: D.25-12-043, D.19-11-017, AL 3480-E-A, AL 4553-E, AL 4499-E | C72: 0 | D72: 0 | E72: 0 | F72: 0 | G72: 297.65388 | H72: 297.65388 | I72: 297.65388 | J72: 297.65388 | K72: 2717.1227 | L72: 2717.1227 | M72: 3521.426 | N72: 3442.8772 | O72: 3619.6794 | P72: 3619.6794 | Q72: 3464.1058 | R72: 3464.1058 | S72: 3464.1058 | T72: 3178.1204 | U72: 3178.1204 | V72: 3178.1204 | W72: 3178.1204 | X72: Distribution | Y72: N
A73: V2G Pilot | B73: D.25-12-043, D.19-08-026, AL 4553-E, AL 3489-E-A | C73: 0 | D73: 0 | E73: 0 | F73: 0 | G73: 916.84931 | H73: 916.84931 | I73: 916.84931 | J73: 916.84931 | K73: 223.70722 | L73: 223.70722 | M73: 224.82059 | N73: 222.19649 | O73: 228.67459 | P73: 228.67459 | Q73: 222.34522 | R73: 222.34522 | S73: 222.34522 | T73: 196.82219 | U73: 196.82219 | V73: 196.82219 | W73: 196.82219 | X73: Distribution | Y73: N
A74: SB 350 Priority Projects | B74: N/A | C74: 11774.826 | D74: 11774.826 | E74: 11774.826 | F74: 11774.826 | G74: 3849.8475 | H74: 3849.8475 | I74: 3849.8475 | J74: 3849.8475 | K74: 3707.0718 | L74: 3707.0718 | M74: 0 | N74: 0 | O74: 0 | P74: 0 | Q74: 0 | R74: 0 | S74: 0 | T74: 0 | U74: 0 | V74: 0 | W74: 0 | X74: Distribution | Y74: N
A75: FF&U Associated with Public Purpose Programs (PPP) | B75: AL 4717-E, AL 4757-E | C75: 5757.942 | D75: 6761.2327 | E75: 6761.2327 | F75: 6761.2327 | G75: 4091.7015 | H75: 4084.8366 | I75: 4084.8366 | J75: 5617.0972 | K75: 7836.1329 | L75: 7836.1329 | M75: 11416.542 | N75: 3285.896 | O75: 3285.896 | P75: 3642.5185 | Q75: 8080.4813 | R75: 8080.4813 | S75: 7716.0574 | T75: 5954.2815 | U75: 5954.2815 | V75: 5954.2815 | W75: 5954.2815 | X75: Distribution | Y75: N
A76: Liability Insurance Premium Balancing Account (LIPBA) Over Limits Sub-Account | B76: AL 4511-E/3342-G | C76: 0 | D76: 0 | E76: 0 | F76: 0 | G76: 0 | H76: 0 | I76: 0 | J76: 9151.8939 | K76: 9150.7939 | L76: 9150.7939 | M76: 0 | N76: 0 | O76: 0 | P76: 0 | Q76: 1911.1178 | R76: 1911.1178 | S76: 1911.1178 | T76: 0 | U76: 0 | V76: 0 | W76: 0 | X76: Distribution | Y76: N
A77: Power Your Drive Extension Program (PYD 2.0) | B77: D.25-12-043, D.21-04-014, AL 4553-E, AL 3765-E, AL 3765-E-A | C77: 0 | D77: 0 | E77: 0 | F77: 0 | G77: 0 | H77: 0 | I77: 0 | J77: 0 | K77: 0 | L77: 0 | M77: 19553.413 | N77: 6630.1442 | O77: 6947.6823 | P77: 6947.6823 | Q77: 6753.3474 | R77: 6753.3474 | S77: 6753.3474 | T77: 6543.1722 | U77: 6543.1722 | V77: 6543.1722 | W77: 6543.1722 | X77: Distribution | Y77: N
A78: 21st Century Energy Systems Balancing Account (CES-21BA) | B78: N/A | C78: 0 | D78: 0 | E78: 0 | F78: 0 | G78: -333.56655 | H78: -333.56655 | I78: -333.56655 | J78: -333.56655 | K78: 0 | L78: 0 | M78: 0 | N78: 0 | O78: 0 | P78: 0 | Q78: 0 | R78: 0 | S78: 0 | T78: 0 | U78: 0 | V78: 0 | W78: 0 | X78: Distribution | Y78: Y
A79: Liability Insurance Premium Balancing Account (LIPBA) | B79: AL 4757-E, Resolution E-5217 | C79: 0 | D79: 0 | E79: 0 | F79: 0 | G79: 62042.099 | H79: 62042.099 | I79: 62042.099 | J79: 62042.099 | K79: 97834.233 | L79: 97834.233 | M79: 96619.676 | N79: 85598.385 | O79: 85598.385 | P79: 85598.385 | Q79: -7088.5663 | R79: -7088.5663 | S79: -7088.5663 | T79: -47214.503 | U79: -47214.503 | V79: -47214.503 | W79: -47214.503 | X79: Distribution | Y79: Y
...

Sheet Incremental Rev Req
A1: SDG&E Electric Revenue Requirement List
A2: Annual Period 2026
A3: Reporting Date: Quarter Ended September 30
A4: Submitted September 1, 2026
A5: Current Revenue Requirement ($000): | B5: =D85 -> 4829143.6
A6: Current Revenue Requirement Effective: | B6: =Summary!I2 -> 8/1/2026
A7: Approved Application(s), Implemented Since Jan 1 or To Be Implemented | N7: Authorized
A8: Filing Description | B8: Proceeding | C8: Authority for Revenue Requirement | D8: Authorized Revenue Requirement with FF&U ($000) | E8: Revenue Recovery Mechanism | F8: Authorized Revenue Requirement with FF&U ($000) - Breakout by Year Year-End 2026; January 1 2027-2030 | K8: Existing or New Item (if existing, use delta from prior for rate impact) | O8: 2026 | P8: 2027 | Q8: 2028 | R8: 2029 | S8: 2030
A9: Safety Affordability Reliability Proceedings | D9: =B6 -> 8/1/2026 | F9: 2026 | G9: 2027 | H9: 2028 | I9: 2029 | J9: 2030 | N9: Generation | O9: =SUMIF($E$10:$E$84,$N9,F$10:F$84) -> 585580.4 | P9: =SUMIF($E$10:$E$84,$N9,G$10:G$84) -> 593961.71 | Q9: =SUMIF($E$10:$E$84,$N9,H$10:H$84) -> 593914.31 | R9: =SUMIF($E$10:$E$84,$N9,I$10:I$84) -> 593857.02 | S9: =SUMIF($E$10:$E$84,$N9,J$10:J$84) -> 593857.02
A10: General Rate Case | C10: ='Authorized Rev Req'!B9 -> D.25-12-043, D.24-12-074, AL 4743-E | D10: =F10 -> 2110024.1 | E10: ='Authorized Rev Req'!X9 -> Distribution | F10: ='Authorized Rev Req'!W9 -> 2110024.1 | G10: 2206400.8 | H10: =G10 -> 2206400.8 | I10: =H10 -> 2206400.8 | J10: =I10 -> 2206400.8 | K10: Existing | N10: MCAM | O10: =SUMIF($E$10:$E$84,$N10,F$10:F$84) -> 313.03091 | P10: =SUMIF($E$10:$E$84,$N10,G$10:G$84) -> 313.03091 | Q10: =SUMIF($E$10:$E$84,$N10,H$10:H$84) -> 313.03091 | R10: =SUMIF($E$10:$E$84,$N10,I$10:I$84) -> 313.03091 | S10: =SUMIF($E$10:$E$84,$N10,J$10:J$84) -> 313.03091
A11: General Rate Case | C11: ='Authorized Rev Req'!B10 -> D.25-12-043, D.24-12-074, AL 4743-E | D11: =F11 -> 224821.9 | E11: ='Authorized Rev Req'!X10 -> Generation | F11: ='Authorized Rev Req'!W10 -> 224821.9 | G11: 233098.52 | H11: =G11 -> 233098.52 | I11: =H11 -> 233098.52 | J11: =I11 -> 233098.52 | K11: Existing | N11: LGC | O11: =SUMIF($E$10:$E$84,$N11,F$10:F$84) -> 171405.05 | P11: =SUMIF($E$10:$E$84,$N11,G$10:G$84) -> 171405.05 | Q11: =SUMIF($E$10:$E$84,$N11,H$10:H$84) -> 171405.05 | R11: =SUMIF($E$10:$E$84,$N11,I$10:I$84) -> 171405.05 | S11: =SUMIF($E$10:$E$84,$N11,J$10:J$84) -> 171405.05
A12: WMPMA (Track 2) | C12: D.26-01-021, AL 4853-E | D12: =F12 -> 194105.7 | E12: ='Authorized Rev Req'!X55 -> Distribution | F12: ='Authorized Rev Req'!W55 -> 194105.7 | G12: 172801.18 | H12: 177758.96 | I12: 50347.992 | K12: Existing | N12: Distribution | O12: =SUMIF($E$10:$E$84,$N12,F$10:F$84) -> 2480987.3 | P12: =SUMIF($E$10:$E$84,$N12,G$10:G$84) -> 2521467.5 | Q12: =SUMIF($E$10:$E$84,$N12,H$10:H$84) -> 2524770.2 | R12: =SUMIF($E$10:$E$84,$N12,I$10:I$84) -> 2384696.4 | S12: =SUMIF($E$10:$E$84,$N12,J$10:J$84) -> 2334325.5
A13: ERRA Forecast + GHG Costs | C13: ='Authorized Rev Req'!B18 -> D.25-12-008 | D13: =F13 -> 398611.62 | E13: ='Authorized Rev Req'!X18 -> Generation | F13: ='Authorized Rev Req'!W18 -> 398611.62 | G13: =F13 -> 398611.62 | H13: =G13 -> 398611.62 | I13: =H13 -> 398611.62 | J13: =I13 -> 398611.62 | K13: Existing | N13: GHG Revenue | O13: =SUMIF($E$10:$E$84,$N13,F$10:F$84) -> -149108.55 | P13: =SUMIF($E$10:$E$84,$N13,G$10:G$84) -> -149108.55 | Q13: =SUMIF($E$10:$E$84,$N13,H$10:H$84) -> -149108.55 | R13: =SUMIF($E$10:$E$84,$N13,I$10:I$84) -> -149108.55 | S13: =SUMIF($E$10:$E$84,$N13,J$10:J$84) -> -149108.55
A14: CTC | C14: ='Authorized Rev Req'!B41 -> D.25-12-008 | D14: =F14 -> 556.89773 | E14: ='Authorized Rev Req'!X41 -> CTC | F14: ='Authorized Rev Req'!W41 -> 556.89773 | G14: =F14 -> 556.89773 | H14: =G14 -> 556.89773 | I14: =H14 -> 556.89773 | J14: =I14 -> 556.89773 | K14: Existing | N14: CTC | O14: =SUMIF($E$10:$E$84,$N14,F$10:F$84) -> -1314.4085 | P14: =SUMIF($E$10:$E$84,$N14,G$10:G$84) -> -1314.4085 | Q14: =SUMIF($E$10:$E$84,$N14,H$10:H$84) -> -1314.4085 | R14: =SUMIF($E$10:$E$84,$N14,I$10:I$84) -> -1314.4085 | S14: =SUMIF($E$10:$E$84,$N14,J$10:J$84) -> -1314.4085
A15: LGC | C15: ='Authorized Rev Req'!B43 -> D.25-12-008 | D15: =F15 -> 251070.68 | E15: ='Authorized Rev Req'!X43 -> LGC | F15: ='Authorized Rev Req'!W43 -> 251070.68 | G15: =F15 -> 251070.68 | H15: =G15 -> 251070.68 | I15: =H15 -> 251070.68 | J15: =I15 -> 251070.68 | K15: Existing | N15: ND | O15: =SUMIF($E$10:$E$84,$N15,F$10:F$84) -> -64.00233 | P15: =SUMIF($E$10:$E$84,$N15,G$10:G$84) -> -64.00233 | Q15: =SUMIF($E$10:$E$84,$N15,H$10:H$84) -> -64.00233 | R15: =SUMIF($E$10:$E$84,$N15,I$10:I$84) -> -64.00233 | S15: =SUMIF($E$10:$E$84,$N15,J$10:J$84) -> -64.00233
A16: Nuclear Decommissioning (ND) | C16: ='Authorized Rev Req'!B45 -> N/A | D16: =F16 -> 0 | E16: ='Authorized Rev Req'!X45 -> ND | F16: ='Authorized Rev Req'!W45 -> 0 | G16: =F16 -> 0 | H16: =G16 -> 0 | I16: =H16 -> 0 | J16: =I16 -> 0 | K16: Existing | N16: Public Purpose Program | O16: =SUMIF($E$10:$E$84,$N16,F$10:F$84) -> 336142.19 | P16: =SUMIF($E$10:$E$84,$N16,G$10:G$84) -> 341152.23 | Q16: =SUMIF($E$10:$E$84,$N16,H$10:H$84) -> 313439.59 | R16: =SUMIF($E$10:$E$84,$N16,I$10:I$84) -> 313439.59 | S16: =SUMIF($E$10:$E$84,$N16,J$10:J$84) -> 313439.59
A17: SONGS | C17: ='Authorized Rev Req'!B38 -> D.25-09-030, AL 4737-E, 4758-E | D17: =F17 -> 1420.2422 | E17: ='Authorized Rev Req'!X38 -> Generation | F17: ='Authorized Rev Req'!W38 -> 1420.2422 | G17: =F17 -> 1420.2422 | H17: =G17 -> 1420.2422 | I17: =H17 -> 1420.2422 | J17: =I17 -> 1420.2422 | K17: Existing | N17: DWR BC | O17: =SUMIF($E$10:$E$84,$N17,F$10:F$84) -> 0 | P17: =SUMIF($E$10:$E$84,$N17,G$10:G$84) -> 0 | Q17: =SUMIF($E$10:$E$84,$N17,H$10:H$84) -> 0 | R17: =SUMIF($E$10:$E$84,$N17,I$10:I$84) -> 0 | S17: =SUMIF($E$10:$E$84,$N17,J$10:J$84) -> 0
A18: Wildfire Fund NBC | C18: ='Authorized Rev Req'!B48 -> D.25-12-006 | D18: =F18 -> 88541.558 | E18: ='Authorized Rev Req'!X48 -> Wildfire Fund NBC | F18: ='Authorized Rev Req'!W48 -> 88541.558 | G18: =F18 -> 88541.558 | H18: =G18 -> 88541.558 | I18: =H18 -> 88541.558 | J18: =I18 -> 88541.558 | K18: Existing | N18: PCIA | O18: =SUMIF($E$10:$E$84,$N18,F$10:F$84) -> 331222.97 | P18: =SUMIF($E$10:$E$84,$N18,G$10:G$84) -> 331222.97 | Q18: =SUMIF($E$10:$E$84,$N18,H$10:H$84) -> 331222.97 | R18: =SUMIF($E$10:$E$84,$N18,I$10:I$84) -> 331222.97 | S18: =SUMIF($E$10:$E$84,$N18,J$10:J$84) -> 331222.97
A19: PABA Revenue Requirement- Bundled Customers | C19: ='Authorized Rev Req'!B21 -> D.25-09-030, D.25-12-043, D.25-12-008, AL 4757-E | D19: =F19 -> -107259.8 | E19: ='Authorized Rev Req'!X21 -> Generation | F19: ='Authorized Rev Req'!W21 -> -107259.8 | G19: =F19 -> -107259.8 | H19: =G19 -> -107259.8 | I19: =H19 -> -107259.8 | J19: =I19 -> -107259.8 | K19: Existing | N19: Transmission | O19: =SUMIF($E$10:$E$84,$N19,F$10:F$84) -> 984590.06 | P19: =SUMIF($E$10:$E$84,$N19,G$10:G$84) -> 984590.06 | Q19: =SUMIF($E$10:$E$84,$N19,H$10:H$84) -> 984590.06 | R19: =SUMIF($E$10:$E$84,$N19,I$10:I$84) -> 984590.06 | S19: =SUMIF($E$10:$E$84,$N19,J$10:J$84) -> 984590.06
A20: PABA Revenue Requirement - Departed Load | C20: ='Authorized Rev Req'!B26 -> A.25-05-012, A.25-03-013, D.25-09-030, AL 4758-E | D20: =F20 -> 126235.73 | E20: ='Authorized Rev Req'!X26 -> PCIA | F20: ='Authorized Rev Req'!W26 -> 126235.73 | G20: =F20 -> 126235.73 | H20: =G20 -> 126235.73 | I20: =H20 -> 126235.73 | J20: =I20 -> 126235.73 | K20: Existing | N20: RS | O20: =SUMIF($E$10:$E$84,$N20,F$10:F$84) -> 847.97938 | P20: =SUMIF($E$10:$E$84,$N20,G$10:G$84) -> 847.97938 | Q20: =SUMIF($E$10:$E$84,$N20,H$10:H$84) -> 847.97938 | R20: =SUMIF($E$10:$E$84,$N20,I$10:I$84) -> 847.97938 | S20: =SUMIF($E$10:$E$84,$N20,J$10:J$84) -> 847.97938
A21: MCAM | C21: ='Authorized Rev Req'!B54 -> D.25-12-008 | D21: =F21 -> 313.03091 | E21: ='Authorized Rev Req'!X54 -> MCAM | F21: ='Authorized Rev Req'!W54 -> 313.03091 | G21: =F21 -> 313.03091 | H21: =G21 -> 313.03091 | I21: =H21 -> 313.03091 | J21: =I21 -> 313.03091 | K21: Existing | N21: TRAC | O21: =SUMIF($E$10:$E$84,$N21,F$10:F$84) -> 0 | P21: =SUMIF($E$10:$E$84,$N21,G$10:G$84) -> 0 | Q21: =SUMIF($E$10:$E$84,$N21,H$10:H$84) -> 0 | R21: =SUMIF($E$10:$E$84,$N21,I$10:I$84) -> 0 | S21: =SUMIF($E$10:$E$84,$N21,J$10:J$84) -> 0
A22: ERRA BA/Trigger - Departed Load | C22: ='Authorized Rev Req'!B30 -> A.25-05-015, AL 4758-E, Resolution E-5217 | D22: =F22 -> 0 | E22: ='Authorized Rev Req'!X30 -> PCIA | F22: ='Authorized Rev Req'!W30 -> 0 | G22: =F22 -> 0 | H22: =G22 -> 0 | I22: =H22 -> 0 | J22: =I22 -> 0 | K22: Existing | N22: Wildfire Fund NBC | O22: =SUMIF($E$10:$E$84,$N22,F$10:F$84) -> 88541.558 | P22: =SUMIF($E$10:$E$84,$N22,G$10:G$84) -> 88541.558 | Q22: =SUMIF($E$10:$E$84,$N22,H$10:H$84) -> 88541.558 | R22: =SUMIF($E$10:$E$84,$N22,I$10:I$84) -> 88541.558 | S22: =SUMIF($E$10:$E$84,$N22,J$10:J$84) -> 88541.558
A23: Tree Trimming Balancing Account (TTBA) | C23: ='Authorized Rev Req'!B32 -> D.24-06-003 | D23: =F23 -> 36596.139 | E23: ='Authorized Rev Req'!X32 -> Distribution | F23: ='Authorized Rev Req'!W32 -> 36596.139 | K23: Existing | N23: Total | O23: =SUM(O9:O22) -> 4829143.6 | P23: =SUM(P9:P22) -> 4883015.1 | Q23: =SUM(Q9:Q22) -> 4858557.7 | R23: =SUM(R9:R22) -> 4718426.7 | S23: =SUM(S9:S22) -> 4668055.8
A24: Catastrophic Events Memorandum Account (CEMA) | C24: ='Authorized Rev Req'!B56 -> D.24-07-013 | D24: =F24 -> 619.72225 | E24: ='Authorized Rev Req'!X56 -> Distribution | F24: ='Authorized Rev Req'!W56 -> 619.72225 | G24: 605.14055 | K24: Existing | N24: CPUC Fee | O24: ='SDG&E INPUTS'!$S$14 -> 0.001
A25: 2024 GRC Adjustment - Paperless Billing | C25: ='Authorized Rev Req'!B57 -> AL 4483-E/3325-G, AL 4757-E | D25: =F25 -> -202.8865 | E25: Distribution | F25: ='Authorized Rev Req'!W57 -> -202.8865 | G25: =F25 -> -202.8865 | H25: =G25 -> -202.8865 | K25: Existing
A26: High Power Interim Rate Waiver Balancing Account (HPWBA) | C26: ='Authorized Rev Req'!B58 -> D.25-09-006, AL 4757-E | D26: =F26 -> 6151.3943 | E26: Distribution | F26: ='Authorized Rev Req'!W58 -> 6151.3943 | K26: Existing
A27: TY 2024 GRC Non-Officer Compensation | C27: AL 4628-E/3410-G, AL 4628-E-A / 3410-G-A | D27: 0 | E27: Distribution | G27: 744.70825 | K27: Existing
A28: TY 2024 GRC Non-Officer Compensation | C28: AL 4628-E/3410-G, AL 4628-E-A / 3410-G-A | D28: 0 | E28: Generation | G28: 50.7955 | K28: Existing
A32: Public Policy Proceedings
A33: GHG Revenue | C33: ='Authorized Rev Req'!B105 -> D.25-12-008 | D33: =F33 -> -149108.55 | E33: ='Authorized Rev Req'!X104 -> GHG Revenue | F33: ='Authorized Rev Req'!W104+'Authorized Rev Req'!W105 -> -149108.55 | G33: =F33 -> -149108.55 | H33: =G33 -> -149108.55 | I33: =H33 -> -149108.55 | J33: =I33 -> -149108.55 | K33: Existing
A34: Energy Efficiency | C34: ='Authorized Rev Req'!B108 -> AL 4717-E | D34: =F34 -> 47815.004 | E34: ='Authorized Rev Req'!X108 -> Public Purpose Program | F34: ='Authorized Rev Req'!W108 -> 47815.004 | G34: 46441.955 | H34: =G34 -> 46441.955 | I34: =H34 -> 46441.955 | J34: =I34 -> 46441.955 | K34: Existing
A35: CARE Surcharge and Administration | C35: ='Authorized Rev Req'!B106 -> AL 4717-E, AL 4757-E | D35: =F35 -> 193071.76 | E35: ='Authorized Rev Req'!X106 -> Public Purpose Program | F35: ='Authorized Rev Req'!W106 -> 193071.76 | G35: =F35 -> 193071.76 | H35: =G35 -> 193071.76 | I35: =H35 -> 193071.76 | J35: =I35 -> 193071.76 | K35: Existing
A36: Low Income Energy Efficiency (LIEE)/Energy Savings Assistance Programs (ESAP) | C36: ='Authorized Rev Req'!B107 -> AL 4717-E | D36: =F36 -> 18190.333 | E36: ='Authorized Rev Req'!X107 -> Public Purpose Program | F36: ='Authorized Rev Req'!W107 -> 18190.333 | G36: =F36 -> 18190.333 | H36: =G36 -> 18190.333 | I36: =H36 -> 18190.333 | J36: =I36 -> 18190.333 | K36: Existing
A37: EPIC (Electric Program Investment Charge) | C37: ='Authorized Rev Req'!B109 -> AL 4717-E | D37: =F37 -> 13024 | E37: ='Authorized Rev Req'!X109 -> Public Purpose Program | F37: ='Authorized Rev Req'!W109 -> 13024 | G37: 19536 | H37: 16280 | I37: 16280 | J37: 16280 | K37: Existing
A38: Family Electric Rate Assistance (FERA) | C38: ='Authorized Rev Req'!B110 -> AL 4717-E, AL 4757-E | D38: =F38 -> 5723.9435 | E38: ='Authorized Rev Req'!X110 -> Public Purpose Program | F38: ='Authorized Rev Req'!W110 -> 5723.9435 | G38: =F38 -> 5723.9435 | H38: =G38 -> 5723.9435 | I38: =H38 -> 5723.9435 | J38: =I38 -> 5723.9435 | K38: Existing
A39: Food Bank | C39: ='Authorized Rev Req'!B113 -> AL 4717-E | D39: =F39 -> 32 | E39: ='Authorized Rev Req'!X113 -> Public Purpose Program | F39: ='Authorized Rev Req'!W113 -> 32 | G39: =F39 -> 32 | H39: =G39 -> 32 | I39: =H39 -> 32 | J39: =I39 -> 32 | K39: Existing
A40: Economic Development Rate (EDR) | C40: ='Authorized Rev Req'!B119 -> AL 4717-E | D40: =F40 -> 610 | E40: ='Authorized Rev Req'!X119 -> Public Purpose Program | F40: ='Authorized Rev Req'!W119 -> 610 | G40: =F40 -> 610 | H40: =G40 -> 610 | I40: =H40 -> 610 | J40: =I40 -> 610 | K40: Existing
A41: Tree Mortality Non-Bypassable Charge (TMNBC) | C41: ='Authorized Rev Req'!B123 -> A.25-05-012 | E41: ='Authorized Rev Req'!X123 -> Public Purpose Program | K41: Existing
A42: AB 1054 | C42: ='Authorized Rev Req'!B70 -> D.25-12-043, AL 4078-E, AL 4078-E-A, AL 4553-E | D42: =F42 -> -8217.2474 | E42: ='Authorized Rev Req'!X70 -> Distribution | F42: ='Authorized Rev Req'!W70 -> -8217.2474 | G42: -7810.249 | H42: -7400.216 | I42: -6993.4016 | J42: -6588.8762 | K42: Existing
A43: MDHD | C43: ='Authorized Rev Req'!B71 -> D.25-12-043, D.19-08-026, AL 4553-E, AL 3489-E-A | D43: =F43 -> 14532.78 | E43: ='Authorized Rev Req'!X71 -> Distribution | F43: ='Authorized Rev Req'!W71 -> 14532.78 | G43: 14408.603 | H43: 14070.807 | I43: 13741.957 | J43: 13419.394 | K43: Existing
...

Sheet SAR and RAR
C2: Revenue Change ($000)
C3: Authorized | D3: w/ Pending
B4: Generation | C4: =INDEX('Incremental Rev Req'!$N$8:$S$23,MATCH(B4,'Incremental Rev Req'!$N$8:$N$23,0),MATCH(Summary!$D$2,'Incremental Rev Req'!$N$8:$S$8,0)) -> 593857.02 | D4: =INDEX('Incremental Rev Req'!$N$110:$S$125,MATCH(B4,'Incremental Rev Req'!$N$110:$N$125,0),MATCH(Summary!$D$2,'Incremental Rev Req'!$N$110:$S$110,0)) -> 521030.4 | H4: Allocation
B5: MCAM | C5: =INDEX('Incremental Rev Req'!$N$8:$S$23,MATCH(B5,'Incremental Rev Req'!$N$8:$N$23,0),MATCH(Summary!$D$2,'Incremental Rev Req'!$N$8:$S$8,0)) -> 313.03091 | D5: =INDEX('Incremental Rev Req'!$N$110:$S$125,MATCH(B5,'Incremental Rev Req'!$N$110:$N$125,0),MATCH(Summary!$D$2,'Incremental Rev Req'!$N$110:$S$110,0)) -> 369.95202 | H5: Generation | I5: MCAM | J5: LGC | K5: Distribution | L5: GHG Revenue | M5: CTC | N5: ND | O5: Public Purpose Program | P5: DWR BC | Q5: TRAC | R5: Transmission | S5: Wildfire Fund NBC | T5: RS | U5: PCIA | V5: CPUC Fee
B6: LGC | C6: =INDEX('Incremental Rev Req'!$N$8:$S$23,MATCH(B6,'Incremental Rev Req'!$N$8:$N$23,0),MATCH(Summary!$D$2,'Incremental Rev Req'!$N$8:$S$8,0)) -> 171405.05 | D6: =INDEX('Incremental Rev Req'!$N$110:$S$125,MATCH(B6,'Incremental Rev Req'!$N$110:$N$125,0),MATCH(Summary!$D$2,'Incremental Rev Req'!$N$110:$S$110,0)) -> 255410.28 | G6: Residential | H6: =IF(Summary!$D$2=2026,'SDG&E INPUTS'!D14,'SDG&E INPUTS'!D19) -> 0.44202475 | I6: =IF(Summary!$D$2=2026,'SDG&E INPUTS'!E14,'SDG&E INPUTS'!E19) -> 0.19327545 | J6: =IF(Summary!$D$2=2026,'SDG&E INPUTS'!F14,'SDG&E INPUTS'!F19) -> 0.40641042 | K6: =IF(Summary!$D$2=2026,'SDG&E INPUTS'!G14,'SDG&E INPUTS'!G19) -> 0.44395928 | L6: =IF(Summary!$D$2=2026,'SDG&E INPUTS'!H14,'SDG&E INPUTS'!H19) -> 0.9335421 | M6: =IF(Summary!$D$2=2026,'SDG&E INPUTS'!I14,'SDG&E INPUTS'!I19) -> 0.4150581 | N6: =IF(Summary!$D$2=2026,'SDG&E INPUTS'!J14,'SDG&E INPUTS'!J19) -> 0.38515733 | O6: =IF(Summary!$D$2=2026,'SDG&E INPUTS'!K14,'SDG&E INPUTS'!K19) -> 0.36744261 | ... U6: =IF(Summary!$D$2=2026,'SDG&E INPUTS'!Q14,'SDG&E INPUTS'!Q19) -> 0.44458004 | V6: ='SDG&E INPUTS'!$S$14 -> 0.001
B7: Distribution | C7: =INDEX('Incremental Rev Req'!$N$8:$S$23,MATCH(B7,'Incremental Rev Req'!$N$8:$N$23,0),MATCH(Summary!$D$2,'Incremental Rev Req'!$N$8:$S$8,0)) -> 2334325.5 | D7: =INDEX('Incremental Rev Req'!$N$110:$S$125,MATCH(B7,'Incremental Rev Req'!$N$110:$N$125,0),MATCH(Summary!$D$2,'Incremental Rev Req'!$N$110:$S$110,0)) -> 3247885.2
B8: GHG Revenue | C8: =INDEX('Incremental Rev Req'!$N$8:$S$23,MATCH(B8,'Incremental Rev Req'!$N$8:$N$23,0),MATCH(Summary!$D$2,'Incremental Rev Req'!$N$8:$S$8,0)) -> -149108.55 | D8: =INDEX('Incremental Rev Req'!$N$110:$S$125,MATCH(B8,'Incremental Rev Req'!$N$110:$N$125,0),MATCH(Summary!$D$2,'Incremental Rev Req'!$N$110:$S$110,0)) -> -137797.43 | H8: Revenue Change ($000) - System
B9: CTC | C9: =INDEX('Incremental Rev Req'!$N$8:$S$23,MATCH(B9,'Incremental Rev Req'!$N$8:$N$23,0),MATCH(Summary!$D$2,'Incremental Rev Req'!$N$8:$S$8,0)) -> -1314.4085 | D9: =INDEX('Incremental Rev Req'!$N$110:$S$125,MATCH(B9,'Incremental Rev Req'!$N$110:$N$125,0),MATCH(Summary!$D$2,'Incremental Rev Req'!$N$110:$S$110,0)) -> -1732.1215 | G9: Authorized | H9: Generation | I9: MCAM | J9: LGC | K9: Distribution | L9: GHG Revenue | M9: CTC | N9: ND | O9: Public Purpose Program | P9: DWR BC | Q9: TRAC | R9: Transmission | S9: Wildfire Fund NBC | T9: RS | U9: PCIA | X9: Total Adj
B10: ND | C10: =INDEX('Incremental Rev Req'!$N$8:$S$23,MATCH(B10,'Incremental Rev Req'!$N$8:$N$23,0),MATCH(Summary!$D$2,'Incremental Rev Req'!$N$8:$S$8,0)) -> -64.00233 | D10: =INDEX('Incremental Rev Req'!$N$110:$S$125,MATCH(B10,'Incremental Rev Req'!$N$110:$N$125,0),MATCH(Summary!$D$2,'Incremental Rev Req'!$N$110:$S$110,0)) -> -64.00233 | G10: Residential | H10: =H6*H11 -> 262499.5 | I10: =I6*I11 -> 60.501191 | J10: =J6*J11 -> 69660.797 | K10: =K6*K11 -> 1036345.4 | L10: =L6*L11 -> -139199.11 | M10: =M6*M11 -> -545.5559 | N10: =N6*N11 -> -24.650967 | O10: =O6*O11 -> 115171.06 | ... U10: =U6*U11 -> 147255.12 | V10: =SUM(H10:U10) -> 1979291.7 | X10: =V10-AD18 -> 1730888.5
B11: Public Purpose Program | C11: =INDEX('Incremental Rev Req'!$N$8:$S$23,MATCH(B11,'Incremental Rev Req'!$N$8:$N$23,0),MATCH(Summary!$D$2,'Incremental Rev Req'!$N$8:$S$8,0)) -> 313439.59 | D11: =INDEX('Incremental Rev Req'!$N$110:$S$125,MATCH(B11,'Incremental Rev Req'!$N$110:$N$125,0),MATCH(Summary!$D$2,'Incremental Rev Req'!$N$110:$S$110,0)) -> 311165.08 | G11: Total System | H11: =C4 -> 593857.02 | I11: =C5 -> 313.03091 | J11: =C6 -> 171405.05 | K11: =C7 -> 2334325.5 | L11: =C8 -> -149108.55 | M11: =C9 -> -1314.4085 | N11: =C10 -> -64.00233 | O11: =C11 -> 313439.59 | P11: =C12 -> 0 | Q11: =C16 -> 0 | R11: =C14 -> 984590.06 | S11: =C17 -> 88541.558 | T11: =C15 -> 847.97938 | U11: =C13 -> 331222.97 | V11: =SUM(H11:U11) -> 4668055.8 | X11: =V11-AD18 -> 4419652.5
B12: DWR BC | C12: =INDEX('Incremental Rev Req'!$N$8:$S$23,MATCH(B12,'Incremental Rev Req'!$N$8:$N$23,0),MATCH(Summary!$D$2,'Incremental Rev Req'!$N$8:$S$8,0)) -> 0 | D12: =INDEX('Incremental Rev Req'!$N$110:$S$125,MATCH(B12,'Incremental Rev Req'!$N$110:$N$125,0),MATCH(Summary!$D$2,'Incremental Rev Req'!$N$110:$S$110,0)) -> 0 | G12: w/Pending
B13: PCIA | C13: =INDEX('Incremental Rev Req'!$N$8:$S$23,MATCH(B13,'Incremental Rev Req'!$N$8:$N$23,0),MATCH(Summary!$D$2,'Incremental Rev Req'!$N$8:$S$8,0)) -> 331222.97 | D13: =INDEX('Incremental Rev Req'!$N$110:$S$125,MATCH(B13,'Incremental Rev Req'!$N$110:$N$125,0),MATCH(Summary!$D$2,'Incremental Rev Req'!$N$110:$S$110,0)) -> 309151.97 | G13: Residential | H13: =H6*H14 -> 230308.33 | I13: =I6*I14 -> 71.502644 | J13: =J6*J14 -> 103801.4 | K13: =K6*K14 -> 1441928.8 | L13: =L6*L14 -> -128639.7 | M13: =M6*M14 -> -718.93108 | N13: =N6*N14 -> -24.650967 | O13: =O6*O14 -> 114335.31 | ... U13: =U6*U14 -> 137442.79 | V13: =SUM(H13:U13) -> 2457751.5 | X13: =V13-AE18 -> 2209348.3
B14: Transmission | C14: =INDEX('Incremental Rev Req'!$N$8:$S$23,MATCH(B14,'Incremental Rev Req'!$N$8:$N$23,0),MATCH(Summary!$D$2,'Incremental Rev Req'!$N$8:$S$8,0)) -> 984590.06 | D14: =INDEX('Incremental Rev Req'!$N$110:$S$125,MATCH(B14,'Incremental Rev Req'!$N$110:$N$125,0),MATCH(Summary!$D$2,'Incremental Rev Req'!$N$110:$S$110,0)) -> 1137793.6 | G14: Total System | H14: =D4 -> 521030.4 | I14: =D5 -> 369.95202 | J14: =D6 -> 255410.28 | K14: =D7 -> 3247885.2 | L14: =D8 -> -137797.43 | M14: =D9 -> -1732.1215 | N14: =D10 -> -64.00233 | O14: =D11 -> 311165.08 | P14: =D12 -> 0 | Q14: =D16 -> 0 | R14: =D14 -> 1137793.6 | S14: =D17 -> 90036.674 | T14: =D15 -> 847.97938 | U14: =D13 -> 309151.97 | V14: =SUM(H14:U14) -> 5734097.6 | X14: =V14-AE18 -> 5485694.3
B15: RS | C15: =INDEX('Incremental Rev Req'!$N$8:$S$23,MATCH(B15,'Incremental Rev Req'!$N$8:$N$23,0),MATCH(Summary!$D$2,'Incremental Rev Req'!$N$8:$S$8,0)) -> 847.97938 | D15: =INDEX('Incremental Rev Req'!$N$110:$S$125,MATCH(B15,'Incremental Rev Req'!$N$110:$N$125,0),MATCH(Summary!$D$2,'Incremental Rev Req'!$N$110:$S$110,0)) -> 847.97938 | AD15: Authorized | AE15: w/Pending
B16: TRAC | C16: =INDEX('Incremental Rev Req'!$N$8:$S$23,MATCH(B16,'Incremental Rev Req'!$N$8:$N$23,0),MATCH(Summary!$D$2,'Incremental Rev Req'!$N$8:$S$8,0)) -> 0 | D16: =INDEX('Incremental Rev Req'!$N$110:$S$125,MATCH(B16,'Incremental Rev Req'!$N$110:$N$125,0),MATCH(Summary!$D$2,'Incremental Rev Req'!$N$110:$S$110,0)) -> 0 | V16: Authorized | X16: w/Pending Total UDC | Z16: Authorized Commodity | AA16: w/Pending Commodity | AC16: % of CARE Sales (Bundled) | AD16: =IF(Summary!$D$2=2026,E31,E32) -> 0.19523473 | AE16: =AD16 -> 0.19523473
B17: Wildfire Fund NBC | C17: =INDEX('Incremental Rev Req'!$N$8:$S$23,MATCH(B17,'Incremental Rev Req'!$N$8:$N$23,0),MATCH(Summary!$D$2,'Incremental Rev Req'!$N$8:$S$8,0)) -> 88541.558 | D17: =INDEX('Incremental Rev Req'!$N$110:$S$125,MATCH(B17,'Incremental Rev Req'!$N$110:$N$125,0),MATCH(Summary!$D$2,'Incremental Rev Req'!$N$110:$S$110,0)) -> 90036.674 | H17: Revenue Split - Bundled Customer | V17: Bundled Revenue Change | X17: Bundled Revenue Change | AC17: CARE Line-Item Discount | AD17: ='SDG&E INPUTS'!K103 -> 0.35 | AE17: =AD17 -> 0.35
B18: Total Revenue Requirement | C18: =SUM(C4:C17) -> 4668055.8 | D18: =SUM(D4:D17) -> 5734097.6 | H18: Generation | I18: MCAM | J18: LGC | K18: Distribution | L18: GHG Revenue | M18: CTC | N18: ND | O18: Public Purpose Program | P18: DWR BC | Q18: TRAC | R18: Transmission | S18: Wildfire Fund NBC | T18: RS | U18: PCIA | V18: Total | W18: Total Adj | X18: Total | Y18: Total Adj | Z18: Generation | AA18: Generation | AC18: Adjustments | AD18: =IF(Summary!$D$2=2026,C31,C32) -> 248403.28 | AE18: =AD18 -> 248403.28
G19: Residential | H19: 1 | I19: 0 | J19: 1 | K19: 1 | L19: 1 | M19: 1 | N19: 1 | O19: 1 | P19: 1 | Q19: 1 | R19: 1 | S19: 1 | T19: 1 | U19: 0 | V19: =SUMPRODUCT(J10:T10,J19:T19) -> 1569476.6 | W19: =V19-((AD18)*IF(Summary!$D$2=2026,D31,D32)) -> 1360114.6 | X19: =SUMPRODUCT(J13:T13,J19:T19) -> 2089928.9 | Y19: =X19-((AE18)*IF(Summary!$D$2=2026,D31,D32)) -> 1880566.9 | Z19: =SUMPRODUCT(H10,H19) -> 262499.5 | AA19: =SUMPRODUCT(H13,H19) -> 230308.33
B20: CPUC Fee | C20: ='SDG&E INPUTS'!S14 -> 0.001 | D20: =C20 -> 0.001 | G20: Total System | H20: 1 | I20: 0 | J20: 1 | K20: 1 | L20: 1 | M20: 1 | N20: 1 | O20: 1 | P20: 1 | Q20: 1 | R20: 1 | S20: 1 | T20: 1 | U20: 0 | V20: =SUMPRODUCT(J11:T11,J20:T20) -> 3742662.7 | W20: =V20-AD18 -> 3494259.5 | X20: =SUMPRODUCT(J14:T14,J20:T20) -> 4903545.3 | Y20: =X20-AE18 -> 4655142 | Z20: =SUMPRODUCT(H11,H20) -> 593857.02 | AA20: =SUMPRODUCT(H14,H20) -> 521030.4 | AC20: CARE Res Allocation Factor | AD20: ='SDG&E INPUTS'!K104 -> 0.32778681 | AE20: =AD20 -> 0.32778681
G22: Bundled | Q22: System (Bundled and Unbundled)
C23: =YEAR(Summary!I2)&" SALES DETERMINANTS" -> 2026 SALES DETERMINANTS | G23: =Summary!D2&" SALES DETERMINANTS BUNDLED" -> 2030 SALES DETERMINANTS BUNDLED | H23: =Summary!I2&" Avg Rates"&"(sales adj.)" -> 8/1/2026 Avg Rates(sales adj.) | I23: Proposed Avg Rates (Authorized) | J23: Proposed Avg Rates (w/Pending) | K23: % Change (Authorized) | L23: % Change (w/Pending) | R23: =C24 -> SYSTEM NET | S23: =H23 -> 8/1/2026 Avg Rates(sales adj.) | T23: Proposed Avg Rates (Authorized) | U23: Proposed Avg Rates (w/Pending) | V23: % Change (Authorized) | W23: % Change (w/Pending) | AC23: ='SDG&E INPUTS'!E115 -> 6/1/2026 | AD23: ='SDG&E INPUTS'!F115 -> 8/1/2026 | AE23: ='SDG&E INPUTS'!G115 -> 6/1/2026 | AF23: ='SDG&E INPUTS'!H115 -> 8/1/2026
